BEGIN:VCALENDAR
VERSION:2.0
CALSCALE:GREGORIAN
PRODID:-//Diputació de Barcelona//DibaCMS//EN
BEGIN:VEVENT
UID:3419
DTSTAMP:20260425T053617
DTSTART:20150702T183000
DTEND:20150702T200000
SUMMARY:Pilates
LOCATION:
METHOD:PUBLISH
X-WR-CALNAME:info@torrelles.cat
X-WR-TIMEZONE:Europe/Madrid
DESCRIPTION:
URI:https://www.torrelles.cat/actualitat/agenda/pilates.html
CLASS:PUBLIC
END:VEVENT
END:VCALENDAR
