BEGIN:VCALENDAR
VERSION:2.0
CALSCALE:GREGORIAN
PRODID:-//Diputació de Barcelona//DibaCMS//EN
BEGIN:VEVENT
UID:3504
DTSTAMP:20260425T162916
DTSTART:20151031T180000
DTEND:20151031T200000
SUMMARY:Castanyada
LOCATION:
METHOD:PUBLISH
X-WR-CALNAME:info@torrelles.cat
X-WR-TIMEZONE:Europe/Madrid
DESCRIPTION:
URI:https://www.torrelles.cat/actualitat/agenda/castanyada.html
CLASS:PUBLIC
END:VEVENT
END:VCALENDAR
