BEGIN:VCALENDAR
VERSION:2.0
CALSCALE:GREGORIAN
PRODID:-//Diputació de Barcelona//DibaCMS//EN
BEGIN:VEVENT
UID:3517
DTSTAMP:20260425T053931
DTSTART:20151113T213000
DTEND:20151113T000000
SUMMARY:Correfoc
LOCATION:
METHOD:PUBLISH
X-WR-CALNAME:info@torrelles.cat
X-WR-TIMEZONE:Europe/Madrid
DESCRIPTION:
URI:https://www.torrelles.cat/actualitat/agenda/correfoc.html
CLASS:PUBLIC
END:VEVENT
END:VCALENDAR
