BEGIN:VCALENDAR
VERSION:2.0
CALSCALE:GREGORIAN
PRODID:-//Diputació de Barcelona//DibaCMS//EN
BEGIN:VEVENT
UID:3529
DTSTAMP:20260426T012016
DTSTART:20151115T173000
DTEND:20151115T193000
SUMMARY:Circuit obert d’slot
LOCATION:
METHOD:PUBLISH
X-WR-CALNAME:info@torrelles.cat
X-WR-TIMEZONE:Europe/Madrid
DESCRIPTION:
URI:https://www.torrelles.cat/actualitat/agenda/circuit-obert-dslot.html
CLASS:PUBLIC
END:VEVENT
END:VCALENDAR
