BEGIN:VCALENDAR
VERSION:2.0
CALSCALE:GREGORIAN
PRODID:-//Diputació de Barcelona//DibaCMS//EN
BEGIN:VEVENT
UID:3530
DTSTAMP:20260425T193014
DTSTART:20151119T193000
DTEND:20151119T000000
SUMMARY:Xerrada - taller: Estratègia familiar en l'ús més segur d'Internet i les Xarxes Socials
LOCATION:
METHOD:PUBLISH
X-WR-CALNAME:info@torrelles.cat
X-WR-TIMEZONE:Europe/Madrid
DESCRIPTION:A càrrec de Tomàs Moré, del Centre de Seguretat de la Informació de Catalunya. Adreçat a pares i mares d’infants i joves amb un nivell mínim coneixement de l’ús d’internet.
URI:https://www.torrelles.cat/actualitat/agenda/xerrada-taller-estrategia-familiar-en-lus-mes-segur-dinternet-i-les-xarxes-socials.html
CLASS:PUBLIC
END:VEVENT
END:VCALENDAR
