BEGIN:VCALENDAR
VERSION:2.0
CALSCALE:GREGORIAN
PRODID:-//Diputació de Barcelona//DibaCMS//EN
BEGIN:VEVENT
UID:3531
DTSTAMP:20260425T191604
DTSTART:20151119T210000
DTEND:20151119T220000
SUMMARY:Ple municipal de 19 de novembre de 2015
LOCATION:
METHOD:PUBLISH
X-WR-CALNAME:info@torrelles.cat
X-WR-TIMEZONE:Europe/Madrid
DESCRIPTION:Ple municipal de 19 de novembre de 2015
URI:https://www.torrelles.cat/actualitat/agenda/ple-municipal-de-19-de-novembre-de-2015.html
CLASS:PUBLIC
END:VEVENT
END:VCALENDAR
