BEGIN:VCALENDAR
VERSION:2.0
CALSCALE:GREGORIAN
PRODID:-//Diputació de Barcelona//DibaCMS//EN
BEGIN:VEVENT
UID:3532
DTSTAMP:20260425T234401
DTSTART:20151121T124500
DTEND:20151121T000000
SUMMARY:Creative backpack painting
LOCATION:
METHOD:PUBLISH
X-WR-CALNAME:info@torrelles.cat
X-WR-TIMEZONE:Europe/Madrid
DESCRIPTION:
URI:https://www.torrelles.cat/actualitat/agenda/creative-backpack-painting.html
CLASS:PUBLIC
END:VEVENT
END:VCALENDAR
