BEGIN:VCALENDAR
VERSION:2.0
CALSCALE:GREGORIAN
PRODID:-//Diputació de Barcelona//DibaCMS//EN
BEGIN:VEVENT
UID:3533
DTSTAMP:20260426T012117
DTSTART:20151121T220000
DTEND:20151121T000000
SUMMARY:Teatre: Alegria... és Festa Major
LOCATION:
METHOD:PUBLISH
X-WR-CALNAME:info@torrelles.cat
X-WR-TIMEZONE:Europe/Madrid
DESCRIPTION:
URI:https://www.torrelles.cat/actualitat/agenda/teatre-alegria-es-festa-major.html
CLASS:PUBLIC
END:VEVENT
END:VCALENDAR
