BEGIN:VCALENDAR
VERSION:2.0
CALSCALE:GREGORIAN
PRODID:-//Diputació de Barcelona//DibaCMS//EN
BEGIN:VEVENT
UID:3534
DTSTAMP:20260426T024532
DTSTART:20151121T100000
DTEND:20151121T000000
SUMMARY:Storytelling & bag painting
LOCATION:
METHOD:PUBLISH
X-WR-CALNAME:info@torrelles.cat
X-WR-TIMEZONE:Europe/Madrid
DESCRIPTION:
URI:https://www.torrelles.cat/actualitat/agenda/storytelling-and-bag-painting.html
CLASS:PUBLIC
END:VEVENT
END:VCALENDAR
