BEGIN:VCALENDAR
VERSION:2.0
CALSCALE:GREGORIAN
PRODID:-//Diputació de Barcelona//DibaCMS//EN
BEGIN:VEVENT
UID:3536
DTSTAMP:20260425T234245
DTSTART:20151122T180000
DTEND:20151122T000000
SUMMARY:Teatre: Alegria... és Festa Major
LOCATION:
METHOD:PUBLISH
X-WR-CALNAME:info@torrelles.cat
X-WR-TIMEZONE:Europe/Madrid
DESCRIPTION:
URI:https://www.torrelles.cat/actualitat/agenda/3536-teatre-alegria-es-festa-major.html
CLASS:PUBLIC
END:VEVENT
END:VCALENDAR
