BEGIN:VCALENDAR
VERSION:2.0
CALSCALE:GREGORIAN
PRODID:-//Diputació de Barcelona//DibaCMS//EN
BEGIN:VEVENT
UID:3538
DTSTAMP:20260425T131419
DTSTART:20151209T180000
DTEND:20151209T000000
SUMMARY:Xerrada: Primers auxilis per a nadons i nens
LOCATION:
METHOD:PUBLISH
X-WR-CALNAME:info@torrelles.cat
X-WR-TIMEZONE:Europe/Madrid
DESCRIPTION:
URI:https://www.torrelles.cat/actualitat/agenda/xerrada-primers-auxilis-per-a-nadons-i-nens.html
CLASS:PUBLIC
END:VEVENT
END:VCALENDAR
