BEGIN:VCALENDAR
VERSION:2.0
CALSCALE:GREGORIAN
PRODID:-//Diputació de Barcelona//DibaCMS//EN
BEGIN:VEVENT
UID:3542
DTSTAMP:20260425T162653
DTSTART:20151213T103000
DTEND:20151213T000000
SUMMARY:Introduction to landscape photography (Taller d'iniciació a la fotografia de paisatge en anglès)
LOCATION:
METHOD:PUBLISH
X-WR-CALNAME:info@torrelles.cat
X-WR-TIMEZONE:Europe/Madrid
DESCRIPTION:
URI:https://www.torrelles.cat/actualitat/agenda/introduction-to-landscape-photography-taller-diniciacio-a-la-fotografia-de-paisatge-en-angles.html
CLASS:PUBLIC
END:VEVENT
END:VCALENDAR
