BEGIN:VCALENDAR
VERSION:2.0
CALSCALE:GREGORIAN
PRODID:-//Diputació de Barcelona//DibaCMS//EN
BEGIN:VEVENT
UID:3548
DTSTAMP:20260425T221511
DTSTART:20151220T180000
DTEND:20151220T000000
SUMMARY:Música: Concert de cant coral - Nadal 2015
LOCATION:
METHOD:PUBLISH
X-WR-CALNAME:info@torrelles.cat
X-WR-TIMEZONE:Europe/Madrid
DESCRIPTION:
URI:https://www.torrelles.cat/actualitat/agenda/musica-concert-de-cant-coral-nadal-2015.html
CLASS:PUBLIC
END:VEVENT
END:VCALENDAR
