BEGIN:VCALENDAR
VERSION:2.0
CALSCALE:GREGORIAN
PRODID:-//Diputació de Barcelona//DibaCMS//EN
BEGIN:VEVENT
UID:3587
DTSTAMP:20260422T223640
DTSTART:20160131T090000
DTEND:20160131T000000
SUMMARY:Esmorzar de carreters
LOCATION:
METHOD:PUBLISH
X-WR-CALNAME:info@torrelles.cat
X-WR-TIMEZONE:Europe/Madrid
DESCRIPTION:
URI:https://www.torrelles.cat/actualitat/agenda/esmorzar-de-carreters.html
CLASS:PUBLIC
END:VEVENT
END:VCALENDAR
