BEGIN:VCALENDAR
VERSION:2.0
CALSCALE:GREGORIAN
PRODID:-//Diputació de Barcelona//DibaCMS//EN
BEGIN:VEVENT
UID:3589
DTSTAMP:20260425T131836
DTSTART:20160131T110000
DTEND:20160131T000000
SUMMARY:Cercavila pels carrers del poble
LOCATION:
METHOD:PUBLISH
X-WR-CALNAME:info@torrelles.cat
X-WR-TIMEZONE:Europe/Madrid
DESCRIPTION:
URI:https://www.torrelles.cat/actualitat/agenda/cercavila-pels-carrers-del-poble.html
CLASS:PUBLIC
END:VEVENT
END:VCALENDAR
