BEGIN:VCALENDAR
VERSION:2.0
CALSCALE:GREGORIAN
PRODID:-//Diputació de Barcelona//DibaCMS//EN
BEGIN:VEVENT
UID:4143
DTSTAMP:20260426T053815
DTSTART:20160409T100000
DTEND:20160409T140000
SUMMARY:Taller en anglès: Science Experiments
LOCATION:
METHOD:PUBLISH
X-WR-CALNAME:info@torrelles.cat
X-WR-TIMEZONE:Europe/Madrid
DESCRIPTION:
URI:https://www.torrelles.cat/actualitat/agenda/taller-en-angles-science-experiments.html
CLASS:PUBLIC
END:VEVENT
END:VCALENDAR
