BEGIN:VCALENDAR
VERSION:2.0
CALSCALE:GREGORIAN
PRODID:-//Diputació de Barcelona//DibaCMS//EN
BEGIN:VEVENT
UID:4247
DTSTAMP:20260420T162707
DTSTART:20161112T173000
DTEND:20161112T000000
SUMMARY:Animació infantil
LOCATION:
METHOD:PUBLISH
X-WR-CALNAME:info@torrelles.cat
X-WR-TIMEZONE:Europe/Madrid
DESCRIPTION:
URI:https://www.torrelles.cat/actualitat/agenda/animacio-infantil.html
CLASS:PUBLIC
END:VEVENT
END:VCALENDAR
