BEGIN:VCALENDAR
VERSION:2.0
CALSCALE:GREGORIAN
PRODID:-//Diputació de Barcelona//DibaCMS//EN
BEGIN:VEVENT
UID:4288
DTSTAMP:20260423T191418
DTSTART:20161222T190000
DTEND:20161222T000000
SUMMARY:Cinefòrum: El metge
LOCATION:
METHOD:PUBLISH
X-WR-CALNAME:info@torrelles.cat
X-WR-TIMEZONE:Europe/Madrid
DESCRIPTION:
URI:https://www.torrelles.cat/actualitat/agenda/cineforum-el-metge.html
CLASS:PUBLIC
END:VEVENT
END:VCALENDAR
