BEGIN:VCALENDAR
VERSION:2.0
CALSCALE:GREGORIAN
PRODID:-//Diputació de Barcelona//DibaCMS//EN
BEGIN:VEVENT
UID:6190
DTSTAMP:20260423T225359
DTSTART:20220725T163000
DTEND:20220725T233000
SUMMARY:Exposició: Àlex Gil. Inventari d'intencions
LOCATION:Major, 2 08629 Torrelles de Llobregat
METHOD:PUBLISH
X-WR-CALNAME:info@torrelles.cat
X-WR-TIMEZONE:Europe/Madrid
DESCRIPTION:Exposició pictòrica del torrellenc Àlex Gil. De l'1 al 30 de juliol.

URI:https://www.torrelles.cat/actualitat/agenda/6190-exposicio-alex-gil-inventari-dintencions.html
CLASS:PUBLIC
END:VEVENT
END:VCALENDAR
