BEGIN:VCALENDAR
VERSION:2.0
CALSCALE:GREGORIAN
PRODID:-//Diputació de Barcelona//DibaCMS//EN
BEGIN:VEVENT
UID:6283
DTSTAMP:20260425T012904
DTSTART:20220927T163000
DTEND:20220927T223000
SUMMARY:Exposició: il·lustracions
LOCATION:Major, 2 08629 Torrelles de Llobregat
METHOD:PUBLISH
X-WR-CALNAME:info@torrelles.cat
X-WR-TIMEZONE:Europe/Madrid
DESCRIPTION:Del 5 al 30 de setembre. Exposició d'il·lustracions i treballs de la torrellenca Maria Palet Tort.

URI:https://www.torrelles.cat/actualitat/agenda/6283-exposicio-illustracions.html
CLASS:PUBLIC
END:VEVENT
END:VCALENDAR
