BEGIN:VCALENDAR
VERSION:2.0
CALSCALE:GREGORIAN
PRODID:-//Diputació de Barcelona//DibaCMS//EN
BEGIN:VEVENT
UID:6442
DTSTAMP:20260425T222327
DTSTART:20221109T200000
DTEND:20221109T200000
SUMMARY:Inauguració 25 anys de lila a Torrelles
LOCATION:Major, 2 08629 Torrelles de Llobregat
METHOD:PUBLISH
X-WR-CALNAME:info@torrelles.cat
X-WR-TIMEZONE:Europe/Madrid
DESCRIPTION:
URI:https://www.torrelles.cat/actualitat/agenda/inauguracio-25-anys-de-lila-a-torrelles.html
CLASS:PUBLIC
END:VEVENT
END:VCALENDAR
