BEGIN:VCALENDAR
VERSION:2.0
CALSCALE:GREGORIAN
PRODID:-//Diputació de Barcelona//DibaCMS//EN
BEGIN:VEVENT
UID:7585
DTSTAMP:20260425T024123
DTSTART:20240309T090000
DTEND:20240309T120000
SUMMARY:Caminada i esmorzar de les dones
LOCATION:Carrer de la Tal·lara, 4 08629 Torrelles de Llobregat
METHOD:PUBLISH
X-WR-CALNAME:info@torrelles.cat
X-WR-TIMEZONE:Europe/Madrid
DESCRIPTION:Inscripcions a Nins i Nines fins al 7 de març

URI:https://www.torrelles.cat/actualitat/agenda/caminada-i-esmorzar-de-les-dones.html
CLASS:PUBLIC
END:VEVENT
END:VCALENDAR
