BEGIN:VCALENDAR
VERSION:2.0
CALSCALE:GREGORIAN
PRODID:-//Diputació de Barcelona//DibaCMS//EN
BEGIN:VEVENT
UID:7856
DTSTAMP:20260421T082031
DTSTART:20240723T190000
DTEND:20240723T190000
SUMMARY:Reunió equip de Govern  
LOCATION:
METHOD:PUBLISH
X-WR-CALNAME:info@torrelles.cat
X-WR-TIMEZONE:Europe/Madrid
DESCRIPTION:
URI:https://www.torrelles.cat/ajuntament/govern/alcaldia/7856-reunio-equip-de-govern-.html
CLASS:PUBLIC
END:VEVENT
END:VCALENDAR
