BEGIN:VCALENDAR
VERSION:2.0
CALSCALE:GREGORIAN
PRODID:-//Diputació de Barcelona//DibaCMS//EN
BEGIN:VEVENT
UID:7922
DTSTAMP:20260420T120000
DTSTART:20240913T093000
DTEND:20240913T103000
SUMMARY:Junta de Govern Local 
LOCATION:
METHOD:PUBLISH
X-WR-CALNAME:info@torrelles.cat
X-WR-TIMEZONE:Europe/Madrid
DESCRIPTION:
URI:https://www.torrelles.cat/ajuntament/govern/alcaldia/7922-junta-de-govern-local-.html
CLASS:PUBLIC
END:VEVENT
END:VCALENDAR
