BEGIN:VCALENDAR
VERSION:2.0
CALSCALE:GREGORIAN
PRODID:-//Diputació de Barcelona//DibaCMS//EN
BEGIN:VEVENT
UID:7962
DTSTAMP:20260425T162718
DTSTART:20240904T180000
DTEND:20240904T190000
SUMMARY:Club de lectura infantil ‘Intrèpids lectors’
LOCATION:Major, 8 (Edifici de Can Camps) 08629 Torrelles de Llobregat
METHOD:PUBLISH
X-WR-CALNAME:info@torrelles.cat
X-WR-TIMEZONE:Europe/Madrid
DESCRIPTION:Lectura: S’escolliran entre tots els llibres que es llegiran durant tot el curs i es comentaren les lectures de l’estiu

Club de lectura per a nois i noies d'entre 11 i 12 anys. Dinamitzat per l’Inés Sentañes. Cal inscripció prèvia.

URI:https://www.torrelles.cat/actualitat/agenda/7962-club-de-lectura-infantil-intrepids-lectors.html
CLASS:PUBLIC
END:VEVENT
END:VCALENDAR
