BEGIN:VCALENDAR
VERSION:2.0
CALSCALE:GREGORIAN
PRODID:-//Diputació de Barcelona//DibaCMS//EN
BEGIN:VEVENT
UID:7999
DTSTAMP:20260425T221429
DTSTART:20240913T193000
DTEND:20240913T203000
SUMMARY:Inauguració exposició: Jaume Sala i Montserrat Cardona
LOCATION:Major, 2 08629 Torrelles de Llobregat
METHOD:PUBLISH
X-WR-CALNAME:info@torrelles.cat
X-WR-TIMEZONE:Europe/Madrid
DESCRIPTION:Inauguració de l'exposició fotogràfica de Jaume Sala i de pintura de la Montserrat Cardona.

URI:https://www.torrelles.cat/actualitat/agenda/inauguracio-exposicio-jaume-sala-i-montserrat-cardona.html
CLASS:PUBLIC
END:VEVENT
END:VCALENDAR
