BEGIN:VCALENDAR
VERSION:2.0
CALSCALE:GREGORIAN
PRODID:-//Diputació de Barcelona//DibaCMS//EN
BEGIN:VEVENT
UID:8037
DTSTAMP:20260425T191345
DTSTART:20241016T173000
DTEND:20241016T183000
SUMMARY:Contes menuts: La reina dels colors
LOCATION:Major, 8 (Edifici de Can Camps) 08629 Torrelles de Llobregat
METHOD:PUBLISH
X-WR-CALNAME:info@torrelles.cat
X-WR-TIMEZONE:Europe/Madrid
DESCRIPTION:A càrrec de Gerard Garcés. Activitat familiar amb infants menors de 3 anys.

URI:https://www.torrelles.cat/actualitat/agenda/contes-menuts-la-reina-dels-colors.html
CLASS:PUBLIC
END:VEVENT
END:VCALENDAR
