BEGIN:VCALENDAR
VERSION:2.0
CALSCALE:GREGORIAN
PRODID:-//Diputació de Barcelona//DibaCMS//EN
BEGIN:VEVENT
UID:8125
DTSTAMP:20260425T233750
DTSTART:20241022T093000
DTEND:20241022T150000
SUMMARY:Visitar el museu de la Xocolata
LOCATION:
METHOD:PUBLISH
X-WR-CALNAME:info@torrelles.cat
X-WR-TIMEZONE:Europe/Madrid
DESCRIPTION:Visita guiada al museu de la Xocolata de Barcelona. En acabar gaudirem d’una estona lliure per fer una passejada pels voltants. Trobada a les 9:30h a la rotonda del Serralet de Can Coll per agafar l’autocar. 

URI:https://www.torrelles.cat/actualitat/agenda/visitar-el-museu-de-la-xocolata.html
CLASS:PUBLIC
END:VEVENT
END:VCALENDAR
