BEGIN:VCALENDAR
VERSION:2.0
CALSCALE:GREGORIAN
PRODID:-//Diputació de Barcelona//DibaCMS//EN
BEGIN:VEVENT
UID:8127
DTSTAMP:20260425T234728
DTSTART:20241024T154500
DTEND:20241024T154500
SUMMARY:Caminada de la Gent Gran.
LOCATION:
METHOD:PUBLISH
X-WR-CALNAME:info@torrelles.cat
X-WR-TIMEZONE:Europe/Madrid
DESCRIPTION:Passejada des de l’Ajuntament fins la Font del Porro i arribada al Casal de Can Sostres, on es farà la lectura del Manifest i el tradicional berenar de coca i xocolata. Sortida des de la Plaça de l’Ajuntament.

URI:https://www.torrelles.cat/actualitat/agenda/8127-caminada-de-la-gent-gran.html
CLASS:PUBLIC
END:VEVENT
END:VCALENDAR
