BEGIN:VCALENDAR
VERSION:2.0
CALSCALE:GREGORIAN
PRODID:-//Diputació de Barcelona//DibaCMS//EN
BEGIN:VEVENT
UID:8128
DTSTAMP:20260426T011858
DTSTART:20241025T140000
DTEND:20241025T140000
SUMMARY:Dinar de germanor per la setmana de la Gent Gran
LOCATION:
METHOD:PUBLISH
X-WR-CALNAME:info@torrelles.cat
X-WR-TIMEZONE:Europe/Madrid
DESCRIPTION:Al Restaurant la Lloca del Parc de Catalunya en Miniatura amb acompanyament musical d’en “Jaume Junior”.

URI:https://www.torrelles.cat/actualitat/agenda/dinar-de-germanor-per-la-setmana-de-la-gent-gran.html
CLASS:PUBLIC
END:VEVENT
END:VCALENDAR
