BEGIN:VCALENDAR
VERSION:2.0
CALSCALE:GREGORIAN
PRODID:-//Diputació de Barcelona//DibaCMS//EN
BEGIN:VEVENT
UID:8149
DTSTAMP:20260426T040342
DTSTART:20241112T180000
DTEND:20241112T190000
SUMMARY:Club de lectura 'Llibrenautes' (grup 1)
LOCATION:Major, 8 (Edifici de Can Camps) 08629 Torrelles de Llobregat
METHOD:PUBLISH
X-WR-CALNAME:info@torrelles.cat
X-WR-TIMEZONE:Europe/Madrid
DESCRIPTION:Lectura: Aventura Total - Serendip a l'atac!, d'Òscar Julve i Jaume Copons

Club de lectura per a infants de 8 a 10 anys. Dinamitzat per l’Inés Sentañes.

URI:https://www.torrelles.cat/actualitat/agenda/8149-club-de-lectura-llibrenautes-grup-1.html
CLASS:PUBLIC
END:VEVENT
END:VCALENDAR
