BEGIN:VCALENDAR
VERSION:2.0
CALSCALE:GREGORIAN
PRODID:-//Diputació de Barcelona//DibaCMS//EN
BEGIN:VEVENT
UID:8173
DTSTAMP:20260425T145356
DTSTART:20250510T213000
DTEND:20250510T230000
SUMMARY:Cinema: Parenostre
LOCATION:Major, 2 08629 Torrelles de Llobregat
METHOD:PUBLISH
X-WR-CALNAME:info@torrelles.cat
X-WR-TIMEZONE:Europe/Madrid
DESCRIPTION:
URI:https://www.torrelles.cat/actualitat/agenda/cinema-parenostre.html
CLASS:PUBLIC
END:VEVENT
END:VCALENDAR
