BEGIN:VCALENDAR
VERSION:2.0
CALSCALE:GREGORIAN
PRODID:-//Diputació de Barcelona//DibaCMS//EN
BEGIN:VEVENT
UID:8207
DTSTAMP:20260425T234158
DTSTART:20241215T180000
DTEND:20241215T180000
SUMMARY:[La Marató] Bingo musical
LOCATION:Parc de Can Sostres, s/n 08629 Torrelles de Llobregat
METHOD:PUBLISH
X-WR-CALNAME:info@torrelles.cat
X-WR-TIMEZONE:Europe/Madrid
DESCRIPTION:El proper diumenge, 15 de desembre, a les 18 h, vine al Casal de la Gent Gran de Torrelles i participa al Bingo Musical Solidari per recollir fons per la Marató de TV3.

URI:https://www.torrelles.cat/actualitat/agenda/la-marato-bingo-musical.html
CLASS:PUBLIC
END:VEVENT
END:VCALENDAR
