BEGIN:VCALENDAR
VERSION:2.0
CALSCALE:GREGORIAN
PRODID:-//Diputació de Barcelona//DibaCMS//EN
BEGIN:VEVENT
UID:8226
DTSTAMP:20260425T203349
DTSTART:20241213T180000
DTEND:20241213T200000
SUMMARY:Taller creatiu d’estampació amb motius nadalencs
LOCATION:Carrer de la Tal·lara, 4 08629 Torrelles de Llobregat
METHOD:PUBLISH
X-WR-CALNAME:info@torrelles.cat
X-WR-TIMEZONE:Europe/Madrid
DESCRIPTION:A càrrec de Carla Pradell

URI:https://www.torrelles.cat/actualitat/agenda/taller-creatiu-destampacio-amb-motius-nadalencs.html
CLASS:PUBLIC
END:VEVENT
END:VCALENDAR
