BEGIN:VCALENDAR
VERSION:2.0
CALSCALE:GREGORIAN
PRODID:-//Diputació de Barcelona//DibaCMS//EN
BEGIN:VEVENT
UID:8232
DTSTAMP:20260425T221537
DTSTART:20241213T170000
DTEND:20241213T200000
SUMMARY:Activitat de realitat virtual
LOCATION:Carrer d’Enric Teira, s/n 08629 Torrelles de Llobregat
METHOD:PUBLISH
X-WR-CALNAME:info@torrelles.cat
X-WR-TIMEZONE:Europe/Madrid
DESCRIPTION:Divendres 13 de desembre de 17 h a 20 h al Casal de Joves “El Club”.

URI:https://www.torrelles.cat/actualitat/agenda/activitat-de-realitat-virtual.html
CLASS:PUBLIC
END:VEVENT
END:VCALENDAR
