BEGIN:VCALENDAR
VERSION:2.0
CALSCALE:GREGORIAN
PRODID:-//Diputació de Barcelona//DibaCMS//EN
BEGIN:VEVENT
UID:8327
DTSTAMP:20260426T040354
DTSTART:20250405T110000
DTEND:20250405T140000
SUMMARY:Taller de swing sense parella
LOCATION:Carrer de la Tal·lara, 4 08629 Torrelles de Llobregat
METHOD:PUBLISH
X-WR-CALNAME:info@torrelles.cat
X-WR-TIMEZONE:Europe/Madrid
DESCRIPTION:Inscripcions per WhatsApp al número de telèfon 667474897 (places limitades). A càrrec de l'escola de ball SwingCats

URI:https://www.torrelles.cat/actualitat/agenda/8327-taller-de-swing-sense-parella.html
CLASS:PUBLIC
END:VEVENT
END:VCALENDAR
