BEGIN:VCALENDAR
VERSION:2.0
CALSCALE:GREGORIAN
PRODID:-//Diputació de Barcelona//DibaCMS//EN
BEGIN:VEVENT
UID:8347
DTSTAMP:20260420T230711
DTSTART:20250221T200000
DTEND:20250221T210000
SUMMARY:Projecció: La llenya escalfa dues vegades
LOCATION:Major, 2 08629 Torrelles de Llobregat
METHOD:PUBLISH
X-WR-CALNAME:info@torrelles.cat
X-WR-TIMEZONE:Europe/Madrid
DESCRIPTION:Una performance sobre els oficis del bosc. Autores: Guiu Gimeno i Laura Roig

URI:https://www.torrelles.cat/actualitat/agenda/projeccio-la-llenya-escalfa-dues-vegades.html
CLASS:PUBLIC
END:VEVENT
END:VCALENDAR
