BEGIN:VCALENDAR
VERSION:2.0
CALSCALE:GREGORIAN
PRODID:-//Diputació de Barcelona//DibaCMS//EN
BEGIN:VEVENT
UID:8397
DTSTAMP:20260426T011958
DTSTART:20250403T193000
DTEND:20250403T203000
SUMMARY:Presentació del llibre "Migracions"
LOCATION:Major, 2 08629 Torrelles de Llobregat
METHOD:PUBLISH
X-WR-CALNAME:info@torrelles.cat
X-WR-TIMEZONE:Europe/Madrid
DESCRIPTION:Dins dels actes de la 5a Setmana de la Solidaritat i la Cooperació.

A càrrec del coordinador del llibre, Vitor M. Cabral. Dins de la setmana de la 5a Setmana de la Solidaritat i la Cooperació.

URI:https://www.torrelles.cat/actualitat/agenda/presentacio-del-llibre-migracions.html
CLASS:PUBLIC
END:VEVENT
END:VCALENDAR
