BEGIN:VCALENDAR
VERSION:2.0
CALSCALE:GREGORIAN
PRODID:-//Diputació de Barcelona//DibaCMS//EN
BEGIN:VEVENT
UID:8422
DTSTAMP:20260425T145434
DTSTART:20250405T123000
DTEND:20250405T133000
SUMMARY:Concert i taller de dansa africana per a totes les edats!
LOCATION:
METHOD:PUBLISH
X-WR-CALNAME:info@torrelles.cat
X-WR-TIMEZONE:Europe/Madrid
DESCRIPTION:Dins dels actes de la 5a Setmana de la Solidaritat i la Cooperació.

A càrrec de Moussa Badou i el seu grup, ens  arribarà el ritme de l'Àfrica a Torrelles.

Vindràn acompanyats del taller de dansa africana. Vine a moure el cos al compàs de la música! Apte per a totes les edats!

Amb el suport de la Diputació de Barcelona

URI:https://www.torrelles.cat/actualitat/agenda/concert-i-taller-de-dansa-africana-per-a-totes-les-edats.html
CLASS:PUBLIC
END:VEVENT
END:VCALENDAR
