BEGIN:VCALENDAR
VERSION:2.0
CALSCALE:GREGORIAN
PRODID:-//Diputació de Barcelona//DibaCMS//EN
BEGIN:VEVENT
UID:8428
DTSTAMP:20260425T122116
DTSTART:20250512T170000
DTEND:20250512T180000
SUMMARY:Xerrem en Català
LOCATION:Major, 8 (Edifici de Can Camps) 08629 Torrelles de Llobregat
METHOD:PUBLISH
X-WR-CALNAME:info@torrelles.cat
X-WR-TIMEZONE:Europe/Madrid
DESCRIPTION:Cada dilluns, a les 17 h, l’Assumpció Cabré et convida a parlar amb ella i amb la resta d’assistents en català. Destinat a adquirir els  coneixements per entendre’l i parlar-lo de manera natural.

URI:https://www.torrelles.cat/actualitat/agenda/8428-xerrem-en-catala.html
CLASS:PUBLIC
END:VEVENT
END:VCALENDAR
