BEGIN:VCALENDAR
VERSION:2.0
CALSCALE:GREGORIAN
PRODID:-//Diputació de Barcelona//DibaCMS//EN
BEGIN:VEVENT
UID:8450
DTSTAMP:20260425T203107
DTSTART:20250426T120000
DTEND:20250426T130000
SUMMARY:Espectacle familiar: Un món (i un munt!) de dracs, de la cia. Tanaka Teatre
LOCATION:Major, 2 08629 Torrelles de Llobregat
METHOD:PUBLISH
X-WR-CALNAME:info@torrelles.cat
X-WR-TIMEZONE:Europe/Madrid
DESCRIPTION:Dues princeses ben peculiars descobreixen una llibreria màgica que amaga molts secrets. Dels seus llibres en surten un munt de dracs que les posen a prova. Vols saber com els vencen? Vols veure com un drac es menja els espectadors del teatre com si fos sushi? T’agradaria participar en un càsting de dracs i cavallers?

URI:https://www.torrelles.cat/actualitat/agenda/espectacle-familiar-un-mon-i-un-munt-de-dracs-de-la-cia-tanaka-teatre.html
CLASS:PUBLIC
END:VEVENT
END:VCALENDAR
