BEGIN:VCALENDAR
VERSION:2.0
CALSCALE:GREGORIAN
PRODID:-//Diputació de Barcelona//DibaCMS//EN
BEGIN:VEVENT
UID:8465
DTSTAMP:20260425T190217
DTSTART:20250423T180000
DTEND:20250423T180000
SUMMARY:Dansa: Cançons contades i contes dansats
LOCATION:Plaça de la Tal·lara 
METHOD:PUBLISH
X-WR-CALNAME:info@torrelles.cat
X-WR-TIMEZONE:Europe/Madrid
DESCRIPTION:Amb els grups infantils de l’Esbart Sant Martí. Enguany estarà dedicat al 55è aniversari del Centre d'Esplai Arc de Sant Martí.

URI:https://www.torrelles.cat/actualitat/agenda/dansa-cancons-contades-i-contes-dansats.html
CLASS:PUBLIC
END:VEVENT
END:VCALENDAR
