BEGIN:VCALENDAR
VERSION:2.0
CALSCALE:GREGORIAN
PRODID:-//Diputació de Barcelona//DibaCMS//EN
BEGIN:VEVENT
UID:8480
DTSTAMP:20260425T143956
DTSTART:20250506T173000
DTEND:20250506T183000
SUMMARY:Conte-taller: Pim, pam, Pomelo!
LOCATION:
METHOD:PUBLISH
X-WR-CALNAME:info@torrelles.cat
X-WR-TIMEZONE:Europe/Madrid
DESCRIPTION:Us convidem a investigar com viu en Pomelo, un elefant extraordinari, a través de les seves històries.

URI:https://www.torrelles.cat/actualitat/agenda/conte-taller-pim-pam-pomelo.html
CLASS:PUBLIC
END:VEVENT
END:VCALENDAR
