BEGIN:VCALENDAR
VERSION:2.0
CALSCALE:GREGORIAN
PRODID:-//Diputació de Barcelona//DibaCMS//EN
BEGIN:VEVENT
UID:8536
DTSTAMP:20260425T162820
DTSTART:20250626T190000
DTEND:20250626T200000
SUMMARY:Club de lectura 'Temps de cireres'
LOCATION:Major, 8 (Edifici de Can Camps) 08629 Torrelles de Llobregat
METHOD:PUBLISH
X-WR-CALNAME:info@torrelles.cat
X-WR-TIMEZONE:Europe/Madrid
DESCRIPTION:Lectura: Massa deutes amb les flors, de Iolanda Batallé Prats (visita de l'autora!)

El club de lectura on els comentaris de les novel·les seleccionades són el punt de trobada per compartir les impressions i opinions amb la resta de participants. Dinamitzat per la Sílvia Llorente.

URI:https://www.torrelles.cat/actualitat/agenda/8536-club-de-lectura-temps-de-cireres.html
CLASS:PUBLIC
END:VEVENT
END:VCALENDAR
