BEGIN:VCALENDAR
VERSION:2.0
CALSCALE:GREGORIAN
PRODID:-//Diputació de Barcelona//DibaCMS//EN
BEGIN:VEVENT
UID:8537
DTSTAMP:20260425T203122
DTSTART:20250627T190000
DTEND:20250627T200000
SUMMARY:Club de lectura en anglès 'LitLove'
LOCATION:Major, 8 (Edifici de Can Camps) 08629 Torrelles de Llobregat
METHOD:PUBLISH
X-WR-CALNAME:info@torrelles.cat
X-WR-TIMEZONE:Europe/Madrid
DESCRIPTION:Lectura actual: Exit ghost, de Philip Roth

Club de lectura de novel·la en anglès. Dinamitzat per Chris Conduit. Cal inscripció prèvia

URI:https://www.torrelles.cat/actualitat/agenda/8537-club-de-lectura-en-angles-litlove.html
CLASS:PUBLIC
END:VEVENT
END:VCALENDAR
