BEGIN:VCALENDAR
VERSION:2.0
CALSCALE:GREGORIAN
PRODID:-//Diputació de Barcelona//DibaCMS//EN
BEGIN:VEVENT
UID:8592
DTSTAMP:20260425T175005
DTSTART:20250702T173000
DTEND:20250702T183000
SUMMARY:Taller de bijuteria i macramé
LOCATION:Major, 8 (Edifici de Can Camps) 08629 Torrelles de Llobregat
METHOD:PUBLISH
X-WR-CALNAME:info@torrelles.cat
X-WR-TIMEZONE:Europe/Madrid
DESCRIPTION:Crea el teu propi disseny de polsera. Activitat per a infants majors de 6 anys.

URI:https://www.torrelles.cat/actualitat/agenda/taller-de-bijuteria-i-macrame.html
CLASS:PUBLIC
END:VEVENT
END:VCALENDAR
