BEGIN:VCALENDAR
VERSION:2.0
CALSCALE:GREGORIAN
PRODID:-//Diputació de Barcelona//DibaCMS//EN
BEGIN:VEVENT
UID:8594
DTSTAMP:20260425T131352
DTSTART:20250704T220000
DTEND:20250704T230000
SUMMARY:Nits d’estiu: Poesia i música amb Meritxell Gené
LOCATION:Major, 2 08629 Torrelles de Llobregat
METHOD:PUBLISH
X-WR-CALNAME:info@torrelles.cat
X-WR-TIMEZONE:Europe/Madrid
DESCRIPTION:Espectacle basat en la poesia de Gabriel Ferrater.

URI:https://www.torrelles.cat/actualitat/agenda/nits-destiu-poesia-i-musica-amb-meritxell-gene.html
CLASS:PUBLIC
END:VEVENT
END:VCALENDAR
