BEGIN:VCALENDAR
VERSION:2.0
CALSCALE:GREGORIAN
PRODID:-//Diputació de Barcelona//DibaCMS//EN
BEGIN:VEVENT
UID:8596
DTSTAMP:20260425T131150
DTSTART:20250705T203000
DTEND:20250705T213000
SUMMARY:Sopar d’estiu
LOCATION:Plaça de la Tal·lara 
METHOD:PUBLISH
X-WR-CALNAME:info@torrelles.cat
X-WR-TIMEZONE:Europe/Madrid
DESCRIPTION:
URI:https://www.torrelles.cat/actualitat/agenda/sopar-destiu.html
CLASS:PUBLIC
END:VEVENT
END:VCALENDAR
