BEGIN:VCALENDAR
VERSION:2.0
CALSCALE:GREGORIAN
PRODID:-//Diputació de Barcelona//DibaCMS//EN
BEGIN:VEVENT
UID:8597
DTSTAMP:20260425T234031
DTSTART:20250706T190000
DTEND:20250706T200000
SUMMARY:Concert d’estiu de cant coral
LOCATION:Major, 2 08629 Torrelles de Llobregat
METHOD:PUBLISH
X-WR-CALNAME:info@torrelles.cat
X-WR-TIMEZONE:Europe/Madrid
DESCRIPTION:Amb la participació de l’Orfeó Catalònia de Cornellà de Llobregat, la Coral Pau Casals de Pallejà i la Coral Amadeu Vives de Torrelles de Llobregat.

URI:https://www.torrelles.cat/actualitat/agenda/concert-destiu-de-cant-coral.html
CLASS:PUBLIC
END:VEVENT
END:VCALENDAR
