BEGIN:VCALENDAR
VERSION:2.0
CALSCALE:GREGORIAN
PRODID:-//Diputació de Barcelona//DibaCMS//EN
BEGIN:VEVENT
UID:8598
DTSTAMP:20260425T131201
DTSTART:20250708T173000
DTEND:20250708T183000
SUMMARY:Taller de joguines voladores
LOCATION:Major, 8 (Edifici de Can Camps) 08629 Torrelles de Llobregat
METHOD:PUBLISH
X-WR-CALNAME:info@torrelles.cat
X-WR-TIMEZONE:Europe/Madrid
DESCRIPTION:Es faran unes senzilles i divertides joguines voladores per distreure’s aquest estiu.

URI:https://www.torrelles.cat/actualitat/agenda/taller-de-joguines-voladores.html
CLASS:PUBLIC
END:VEVENT
END:VCALENDAR
